BEGIN:VCALENDAR
VERSION:2.0
PRODID:-//Begas Haus - ECPv4.9.13//NONSGML v1.0//EN
CALSCALE:GREGORIAN
METHOD:PUBLISH
X-WR-CALNAME:Begas Haus
X-ORIGINAL-URL:https://begas-haus.de
X-WR-CALDESC:Veranstaltungen im Begas Haus
BEGIN:VTIMEZONE
TZID:Europe/Berlin
BEGIN:DAYLIGHT
TZOFFSETFROM:+0100
TZOFFSETTO:+0200
TZNAME:CEST
DTSTART:20170326T010000
END:DAYLIGHT
BEGIN:STANDARD
TZOFFSETFROM:+0200
TZOFFSETTO:+0100
TZNAME:CET
DTSTART:20171029T010000
END:STANDARD
END:VTIMEZONE
BEGIN:VEVENT
DTSTART;VALUE=DATE:20170521
DTEND;VALUE=DATE:20170724
DTSTAMP:20260422T225024
CREATED:20200122T143105Z
LAST-MODIFIED:20200122T143230Z
UID:1985-1495324800-1500854399@begas-haus.de
SUMMARY:Ansichtssache
DESCRIPTION:Heinsberg früher und heute mit Fotografien von Pit Siebigs \nAusstellung vom 21. Mai bis 23. Juli 2017 \n
URL:https://begas-haus.de/veranstaltung/ansichtssache/
LOCATION:Begas Haus\, Hochstraße 21\, Heinsberg\, 52525
CATEGORIES:Ausstellung
ATTACH;FMTTYPE=image/png:https://begas-haus.de/wp-content/uploads/2020/01/ansichtssache-ocxggkt4tedpi4pmgkfb45ir57q5u03c0d0spvgmfc.png
ORGANIZER;CN="Begas%20Haus":MAILTO:info@begas-haus.de
END:VEVENT
END:VCALENDAR