BEGIN:VCALENDAR
VERSION:2.0
PRODID:-//Begas Haus - ECPv4.9.13//NONSGML v1.0//EN
CALSCALE:GREGORIAN
METHOD:PUBLISH
X-WR-CALNAME:Begas Haus
X-ORIGINAL-URL:https://begas-haus.de
X-WR-CALDESC:Veranstaltungen im Begas Haus
BEGIN:VTIMEZONE
TZID:Europe/Berlin
BEGIN:DAYLIGHT
TZOFFSETFROM:+0100
TZOFFSETTO:+0200
TZNAME:CEST
DTSTART:20180325T010000
END:DAYLIGHT
BEGIN:STANDARD
TZOFFSETFROM:+0200
TZOFFSETTO:+0100
TZNAME:CET
DTSTART:20181028T010000
END:STANDARD
END:VTIMEZONE
BEGIN:VEVENT
DTSTART;VALUE=DATE:20180902
DTEND;VALUE=DATE:20181104
DTSTAMP:20260423T041053
CREATED:20200122T143745Z
LAST-MODIFIED:20200122T143745Z
UID:1997-1535846400-1541289599@begas-haus.de
SUMMARY:bra-participation
DESCRIPTION:Ein Kunstprojekt zum 100. Geburtstag des BH\nAusstellung vom 02. September bis 03. November 2018 \nAm 12. Februar 1914 meldete die Amerikanerin Mary Phelps Jacob ein Patent für einen leichten und rückenfreien Büstenhalter in den USA an\, das ihr am 3. November desselben Jahres erteilt wurde. Als 1917 der Berater des amerikanischen Präsidenten\, Bernhard Baruch\, die amerikanischen Frauen aufrief\, ihren politischen Beitrag zu leisten durch „Kriegsentscheidendes Material“ frei zu machen und auf dieses stoffsparende Modell umzusteigen\, verdrängte der BH das Korsett und trat seinen Siegeszug um die Welt an. Heute gilt der Büstenhalter als Zeichen der Freiheit\, Selbstbestimmung und Emanzipation der Frau. \nZum 100. Geburtstag des Büstenhalters rief die Künstlerin und Designerin Ursula Pahnke-Felder das Kunstprojekt „bra-participation“ ins Leben. 54 internationale\, professionelle KünstlerInnen stellten sich der künstlerischen Auseinandersetzung mit einem handelsüblichen Büstenhalter und erschufen 66 Kunstwerke. \n
URL:https://begas-haus.de/veranstaltung/bra-participation/
LOCATION:Begas Haus\, Hochstraße 21\, Heinsberg\, 52525
CATEGORIES:Ausstellung
ATTACH;FMTTYPE=image/png:https://begas-haus.de/wp-content/uploads/2019/06/braparticipation.png
ORGANIZER;CN="Begas%20Haus":MAILTO:info@begas-haus.de
END:VEVENT
END:VCALENDAR