BEGIN:VCALENDAR
VERSION:2.0
PRODID:-//Begas Haus - ECPv4.9.13//NONSGML v1.0//EN
CALSCALE:GREGORIAN
METHOD:PUBLISH
X-WR-CALNAME:Begas Haus
X-ORIGINAL-URL:https://begas-haus.de
X-WR-CALDESC:Veranstaltungen im Begas Haus
BEGIN:VTIMEZONE
TZID:Europe/Berlin
BEGIN:DAYLIGHT
TZOFFSETFROM:+0100
TZOFFSETTO:+0200
TZNAME:CEST
DTSTART:20190331T010000
END:DAYLIGHT
BEGIN:STANDARD
TZOFFSETFROM:+0200
TZOFFSETTO:+0100
TZNAME:CET
DTSTART:20191027T010000
END:STANDARD
END:VTIMEZONE
BEGIN:VEVENT
DTSTART;VALUE=DATE:20190317
DTEND;VALUE=DATE:20190506
DTSTAMP:20260420T084237
CREATED:20200122T143950Z
LAST-MODIFIED:20200122T144139Z
UID:1818-1552780800-1557100799@begas-haus.de
SUMMARY:chaussée déformée
DESCRIPTION:Gerlinde Zantis – Zeichnungen\nAusstellung vom 17. März bis 05. Mai 2019 \nDie Aachener Künstlerin Gerlinde Zantis zeigt eine Auswahl ihrer zeichnerischen Werke. Die Verwendung von Blei- und Buntstift oder Pastellkreiden\, mit den Fingern oder der Hand verwischt\, sind charakteristisches Medium  ihrer Arbeiten.  Großformatige Zeichnungen\, in zurückhaltender Farbigkeit\, Detailfülle und Intensität kommen hier der Fotografie sehr nah. Durch das Verreiben der Farbpigmente verschwinden Linien\, die Zeichnungen wirken malerisch. Ihre Motive findet die Künstlerin seit mehr als 15 Jahren auf ihren Reisen in Südfrankreich. In dieser Ausstellung zeigt sie Bilder einer wilden\, herben und vielerorts unberührten Landschaft aus den Départements Ardèche und Gard: kleine Bachläufe\, Schluchten und Wälder\, einsam und immer menschenleer. \n
URL:https://begas-haus.de/veranstaltung/chaussee-deformee/
CATEGORIES:Ausstellung
ATTACH;FMTTYPE=image/png:https://begas-haus.de/wp-content/uploads/2019/06/gerlindezantis.png
END:VEVENT
END:VCALENDAR