BEGIN:VCALENDAR
VERSION:2.0
PRODID:-//Begas Haus - ECPv4.9.13//NONSGML v1.0//EN
CALSCALE:GREGORIAN
METHOD:PUBLISH
X-WR-CALNAME:Begas Haus
X-ORIGINAL-URL:https://begas-haus.de
X-WR-CALDESC:Veranstaltungen im Begas Haus
BEGIN:VTIMEZONE
TZID:Europe/Berlin
BEGIN:DAYLIGHT
TZOFFSETFROM:+0100
TZOFFSETTO:+0200
TZNAME:CEST
DTSTART:20250330T010000
END:DAYLIGHT
BEGIN:STANDARD
TZOFFSETFROM:+0200
TZOFFSETTO:+0100
TZNAME:CET
DTSTART:20251026T010000
END:STANDARD
END:VTIMEZONE
BEGIN:VEVENT
DTSTART;VALUE=DATE:20251209
DTEND;VALUE=DATE:20251224
DTSTAMP:20260422T090754
CREATED:20250804T103615Z
LAST-MODIFIED:20250804T103615Z
UID:4887-1765238400-1766534399@begas-haus.de
SUMMARY:DIY-Creative Bag - die Weihnachtsüberraschung zum Mitnehmen
DESCRIPTION:Auch in diesem Jahr können sich Kinder ab 8 Jahren auf eine kostenlose Überraschungstasche aus dem Museum freuen. \nSie wird in der Vorweihnachtszeit im Museum zur Abholung bereit gestellt und enthält eine ausführliche Anleitung für ein künstlerisches weihnachtliches Objekt\, das Schritt für Schritt nachgestaltet werden kann. Alle benötigten Materialien sind enthalten. \nDie Abholung ist ab Dienstag\, 9. Dezember zu den Öffnungszeiten möglich. \n  \n
URL:https://begas-haus.de/veranstaltung/diy-creative-bag-die-weihnachtsueberraschung-zum-mitnehmen-3/
LOCATION:Begas Haus\, Hochstraße 21\, Heinsberg\, 52525
CATEGORIES:Aktionen,Kinder und Jugendliche,Kunst Aktiv
ATTACH;FMTTYPE=image/jpeg:https://begas-haus.de/wp-content/uploads/2025/08/a01682bbc1357e91d150eb6e48c11791.jpg
ORGANIZER;CN="Begas%20Haus":MAILTO:info@begas-haus.de
END:VEVENT
END:VCALENDAR