BEGIN:VCALENDAR
VERSION:2.0
PRODID:-//Begas Haus - ECPv4.9.13//NONSGML v1.0//EN
CALSCALE:GREGORIAN
METHOD:PUBLISH
X-WR-CALNAME:Begas Haus
X-ORIGINAL-URL:https://begas-haus.de
X-WR-CALDESC:Veranstaltungen im Begas Haus
BEGIN:VTIMEZONE
TZID:Europe/Berlin
BEGIN:DAYLIGHT
TZOFFSETFROM:+0100
TZOFFSETTO:+0200
TZNAME:CEST
DTSTART:20200329T010000
END:DAYLIGHT
BEGIN:STANDARD
TZOFFSETFROM:+0200
TZOFFSETTO:+0100
TZNAME:CET
DTSTART:20201025T010000
END:STANDARD
END:VTIMEZONE
BEGIN:VEVENT
DTSTART;TZID=Europe/Berlin:20200707T140000
DTEND;TZID=Europe/Berlin:20200707T170000
DTSTAMP:20260424T122932
CREATED:20200312T110508Z
LAST-MODIFIED:20200312T110508Z
UID:2425-1594130400-1594141200@begas-haus.de
SUMMARY:Drucken wie die alten Meister
DESCRIPTION: \nDrucken wie die alten Meister \nTermine:  \nDi. 07.07. bis Fr. 10.07.2020\, jeweils 14 – 17 Uhr; \nFr. ab 16:30 Finissage für Familie und Freunde \nZielgruppe: \n10-14 Jahre \nWeitere Informationen und Anmeldungen mit Name und Alter des Kindes\, Adresse sowie Telefonnummer bei Doris Müller\, Koordination Kunst Aktiv\, unter der E-Mail doris.mueller@begas-haus.de oder Tel. 0 24 52 – 95 73 58 8. \nTeilnahme nach Anmeldung kostenlos \nIm Workshop „Drucken wie die alten Meister“ mit Beate Königs lassen sich die Teilnehmer von der Begas-Ausstellung künstlerisch inspirieren\, besonders von der Darstellungsart im 19. Jahrhundert. Die Ausstellung des Museums soll Anreiz geben\, die Wahrnehmung der Jugendlichen zu schulen und selbst künstlerisch tätig zu werden. Bei der Betrachtung der gemalten Landschaften\, Flora und Fauna wird herausgearbeitet\, welche Details eingesetzt wurden. Da die Teilnehmer/innen bei der Anmeldung gebeten werden\, eigene Fotos von Weidetieren\, Lieblingstieren\, Bäumen und Pflanzen und Ansichten vom Landleben mitzubringen\, haben sie die Möglichkeit\, diese mit den Darstellungen im Museum zu vergleichen. Nach der Einführung über den Tiefdruck und im Speziellen der Radierung (Kaltnadelradierung) erstellen sie mittels Transparentpapier eine Zeichnung ihres eigenen Entwurfes. \n
URL:https://begas-haus.de/veranstaltung/drucken-wie-die-alten-meister/2020-07-07/
LOCATION:Begas Haus\, Hochstraße 21\, Heinsberg\, 52525
CATEGORIES:Kinder und Jugendliche,Kunst Aktiv,Wochenend-Workshops / Ferienworkshop
ORGANIZER;CN="Begas%20Haus":MAILTO:info@begas-haus.de
END:VEVENT
END:VCALENDAR