BEGIN:VCALENDAR
VERSION:2.0
PRODID:-//Begas Haus - ECPv4.9.13//NONSGML v1.0//EN
CALSCALE:GREGORIAN
METHOD:PUBLISH
X-WR-CALNAME:Begas Haus
X-ORIGINAL-URL:https://begas-haus.de
X-WR-CALDESC:Veranstaltungen im Begas Haus
BEGIN:VTIMEZONE
TZID:Europe/Berlin
BEGIN:DAYLIGHT
TZOFFSETFROM:+0100
TZOFFSETTO:+0200
TZNAME:CEST
DTSTART:20180325T010000
END:DAYLIGHT
BEGIN:STANDARD
TZOFFSETFROM:+0200
TZOFFSETTO:+0100
TZNAME:CET
DTSTART:20181028T010000
END:STANDARD
END:VTIMEZONE
BEGIN:VEVENT
DTSTART;VALUE=DATE:20180506
DTEND;VALUE=DATE:20180702
DTSTAMP:20260423T125550
CREATED:20200122T143548Z
LAST-MODIFIED:20200122T143548Z
UID:1993-1525564800-1530489599@begas-haus.de
SUMMARY:Hans-Peter Funken – Abstraktion und Landschaft
DESCRIPTION:Ausstellung vom 6. Mai bis 1. Juli 2018 \nHans Peter Funken (1918 – 2012) war Heinsberger Kunsterzieher und als Künstler Autodidakt. Sein Werk ist typisch für die zeitgenössischen Kunsttendenzen der 1950er und 1960er Jahre (Informel) und ist geprägt vom Experimentieren mit verschiedenen Stilen\, die eng verbunden sind mit der Kunstentwicklung im 20. Jahrhundert. \nIn jungen Jahren durchlief er eine naturalistisch-darstellende Phase\, um nach dem Krieg zu einem zunehmend expressiven Stil zu gelangen. Schließlich entstand seit ca. 1960 eine vom Gegenstand losgelöste abstrakt-gestische Malerei\, so in der Technik der Monotypie\, einem Abdruckverfahren\, bei dem von einer Glasscheibe auf Papier gedruckt wird. Bei diesem spontanen und zugleich gesteuerten Vorgang entstehen Unikate. \nDie Ausstellung zeigt teils großformatige abstrakte\, teils auch gegenständliche Grafiken und Malereien aus Familienbesitz. Skizzenbücher geben persönliche Momentaufnahmen wider. \nZur Ausstellung erscheint ein Katalog zum Preis von 10\,00 €. \n
URL:https://begas-haus.de/veranstaltung/hans-peter-funken-abstraktion-und-landschaft/
LOCATION:Begas Haus\, Hochstraße 21\, Heinsberg\, 52525
CATEGORIES:Ausstellung
ATTACH;FMTTYPE=image/png:https://begas-haus.de/wp-content/uploads/2019/06/hanspeterfunken.png
ORGANIZER;CN="Begas%20Haus":MAILTO:info@begas-haus.de
END:VEVENT
END:VCALENDAR