BEGIN:VCALENDAR
VERSION:2.0
PRODID:-//Begas Haus - ECPv4.9.13//NONSGML v1.0//EN
CALSCALE:GREGORIAN
METHOD:PUBLISH
X-WR-CALNAME:Begas Haus
X-ORIGINAL-URL:https://begas-haus.de
X-WR-CALDESC:Veranstaltungen im Begas Haus
BEGIN:VTIMEZONE
TZID:Europe/Berlin
BEGIN:DAYLIGHT
TZOFFSETFROM:+0100
TZOFFSETTO:+0200
TZNAME:CEST
DTSTART:20180325T010000
END:DAYLIGHT
BEGIN:STANDARD
TZOFFSETFROM:+0200
TZOFFSETTO:+0100
TZNAME:CET
DTSTART:20181028T010000
END:STANDARD
END:VTIMEZONE
BEGIN:VEVENT
DTSTART;VALUE=DATE:20180708
DTEND;VALUE=DATE:20180820
DTSTAMP:20260423T022519
CREATED:20200122T143650Z
LAST-MODIFIED:20200122T143650Z
UID:1995-1531008000-1534723199@begas-haus.de
SUMMARY:Heimspiel – Menschen bei Borussia
DESCRIPTION:Fotoprojekt von Markus Bullik\nAusstellung vom 8. Juli bis 19. August 2018 \nDer international tätige Werbe- und Reportage-Fotograf Markus Bullik ist nach dem Studium der Ethnologie und Fotografie lange auf Reisen gewesen und hat in seinen Bildern aus aller Welt Brauchtum und Stammeskulturen dokumentiert. Schließlich porträtierte er für ein Buch Menschen beim Erstligisten Borussia Mönchengladbach: Fans\, Spieler\, Sportjournalisten und Ordner: einfühlsame Fotografien in schwarz-weiß zeigen\, dass die Heimspielstätte „Borussiapark“ als Teil der Identität eines Fußballklubs und seiner Anhänger nach dem Umzug vom Bökelberg eine neue Heimat bietet. Aus dem 168-seitigen Buch des Fotografen „Heimspiel. Menschen bei Borussia“ ist eine Ausstellung geworden\, die ab dem 8. Juli im BEGAS HAUS in Heinsberg zu sehen ist. \nDer international tätige Werbe- und Reportage-Fotograf Markus Bullik ist nach dem Studium der Ethnologie und Fotografie lange auf Reisen gewesen und hat in seinen Bildern aus aller Welt Brauchtum und Stammeskulturen dokumentiert. Schließlich porträtierte er für ein Buch Menschen beim Erstligisten Borussia Mönchengladbach: Fans\, Spieler\, Sportjournalisten und Ordner: einfühlsame Fotografien in schwarz-weiß zeigen\, dass die Heimspielstätte „Borussiapark“ als Teil der Identität eines Fußballklubs und seiner Anhänger nach dem Umzug vom Bökelberg eine neue Heimat bietet. Aus dem 168-seitigen Buch des Fotografen „Heimspiel. Menschen bei Borussia“ ist eine Ausstellung geworden\, die ab dem 8. Juli im BEGAS HAUS in Heinsberg zu sehen ist. \n
URL:https://begas-haus.de/veranstaltung/heimspiel-menschen-bei-borussia/
LOCATION:Begas Haus\, Hochstraße 21\, Heinsberg\, 52525
CATEGORIES:Ausstellung
ATTACH;FMTTYPE=image/png:https://begas-haus.de/wp-content/uploads/2019/06/heimspiel.png
ORGANIZER;CN="Begas%20Haus":MAILTO:info@begas-haus.de
END:VEVENT
END:VCALENDAR