BEGIN:VCALENDAR
VERSION:2.0
PRODID:-//Begas Haus - ECPv4.9.13//NONSGML v1.0//EN
CALSCALE:GREGORIAN
METHOD:PUBLISH
X-WR-CALNAME:Begas Haus
X-ORIGINAL-URL:https://begas-haus.de
X-WR-CALDESC:Veranstaltungen im Begas Haus
BEGIN:VTIMEZONE
TZID:Europe/Berlin
BEGIN:DAYLIGHT
TZOFFSETFROM:+0100
TZOFFSETTO:+0200
TZNAME:CEST
DTSTART:20260329T010000
END:DAYLIGHT
BEGIN:STANDARD
TZOFFSETFROM:+0200
TZOFFSETTO:+0100
TZNAME:CET
DTSTART:20261025T010000
END:STANDARD
END:VTIMEZONE
BEGIN:VEVENT
DTSTART;TZID=Europe/Berlin:20260517T143000
DTEND;TZID=Europe/Berlin:20260517T153000
DTSTAMP:20260424T085345
CREATED:20260302T155840Z
LAST-MODIFIED:20260309T092906Z
UID:4985-1779028200-1779031800@begas-haus.de
SUMMARY:Internationaler Museumstag: Mythologie in den Begas-Werken
DESCRIPTION:\n14.30 Uhr\nÖffentliche Führung zum Thema Mythologie in den Begas-Werken\nDauer: ca. 1 Stunde\n\nAm Internationalen Museumstag ist der Eintritt frei und auch die Führung kostenlos.\n\n
URL:https://begas-haus.de/veranstaltung/internationaler-museumstag-3/
LOCATION:Begas Haus\, Hochstraße 21\, Heinsberg\, 52525
ATTACH;FMTTYPE=image/jpeg:https://begas-haus.de/wp-content/uploads/2026/03/78af57f6-bc27-4c9a-bd0a-eb843202bcfe.jpeg
ORGANIZER;CN="Begas%20Haus":MAILTO:info@begas-haus.de
END:VEVENT
END:VCALENDAR