BEGIN:VCALENDAR
VERSION:2.0
PRODID:-//Begas Haus - ECPv4.9.13//NONSGML v1.0//EN
CALSCALE:GREGORIAN
METHOD:PUBLISH
X-WR-CALNAME:Begas Haus
X-ORIGINAL-URL:https://begas-haus.de
X-WR-CALDESC:Veranstaltungen im Begas Haus
BEGIN:VTIMEZONE
TZID:Europe/Berlin
BEGIN:DAYLIGHT
TZOFFSETFROM:+0100
TZOFFSETTO:+0200
TZNAME:CEST
DTSTART:20200329T010000
END:DAYLIGHT
BEGIN:STANDARD
TZOFFSETFROM:+0200
TZOFFSETTO:+0100
TZNAME:CET
DTSTART:20201025T010000
END:STANDARD
END:VTIMEZONE
BEGIN:VEVENT
DTSTART;TZID=Europe/Berlin:20200721T140000
DTEND;TZID=Europe/Berlin:20200721T170000
DTSTAMP:20260424T101755
CREATED:20200304T122806Z
LAST-MODIFIED:20200716T100934Z
UID:2389-1595340000-1595350800@begas-haus.de
SUMMARY:Köpfe und Masken modellieren
DESCRIPTION:  \n \nKöpfe und Masken modellieren    Dozentin: Marion Scheidtweiler  \nAusgebucht! \nTermin: Di. 21. + Mi. 22.07. gestalten und Di. 04.08.2020 bemalen und glasieren\, \njeweils 14:00 bis 17:00 Uhr \nZielgruppe 10-14 Jahre\, maximal 8 Teilnehmer \nTeilnahme kostenlos\, gefördert durch Kulturrucksack NRW \nProjektbeschreibung: \nIn dem Workshop können die Teilnehmer den spannenden Prozess erleben\, wie man \nsich dem Modellieren eines Kopfes oder einer Maske annähert. Dazu werden die \nGrundkenntnisse der Proportionslehre vermittelt\, welche die Arbeit enorm \nerleichtern. \nAblauf: \n\nNachmittag (3 Stunden) Besuch der aktuellen Ausstellung im Museum von Martin\n\nLersch (gezeichnete Porträts)\, Herstellen eines kleineren Modells\, um die \nProportionen des Kopfes zu erlernen\, Herstellen der Unterkonstruktion (umwickeln \ndes Holzgerüstes mit Zeitungspapier und Klebeband)\, die Unterkonstruktion wird mit \nTonplatten belegt \n\nNachmittag (3 Stunden) Modellieren eines Kopfes (alternativ Maske) nach Fotos\nBemalung des Kopfes mit keramischen Farben (Sinterengoben) und glasieren\n\n
URL:https://begas-haus.de/veranstaltung/koepfe-und-masken-modellieren/2020-07-21/
LOCATION:Begas Haus\, Hochstraße 21\, Heinsberg\, 52525
CATEGORIES:Kinder und Jugendliche,Kunst Aktiv,Wochenend-Workshops / Ferienworkshop
ORGANIZER;CN="Begas%20Haus":MAILTO:info@begas-haus.de
END:VEVENT
END:VCALENDAR