BEGIN:VCALENDAR
VERSION:2.0
PRODID:-//Begas Haus - ECPv4.9.13//NONSGML v1.0//EN
CALSCALE:GREGORIAN
METHOD:PUBLISH
X-WR-CALNAME:Begas Haus
X-ORIGINAL-URL:https://begas-haus.de
X-WR-CALDESC:Veranstaltungen im Begas Haus
BEGIN:VTIMEZONE
TZID:Europe/Berlin
BEGIN:DAYLIGHT
TZOFFSETFROM:+0100
TZOFFSETTO:+0200
TZNAME:CEST
DTSTART:20200329T010000
END:DAYLIGHT
BEGIN:STANDARD
TZOFFSETFROM:+0200
TZOFFSETTO:+0100
TZNAME:CET
DTSTART:20201025T010000
END:STANDARD
END:VTIMEZONE
BEGIN:VEVENT
DTSTART;TZID=Europe/Berlin:20200902T093000
DTEND;TZID=Europe/Berlin:20200902T093000
DTSTAMP:20260424T104428
CREATED:20200130T090629Z
LAST-MODIFIED:20200505T104111Z
UID:2218-1599039000-1599039000@begas-haus.de
SUMMARY:Kunst Aktiv im offenen Atelier
DESCRIPTION:\n\n\nKreativ-Kurs für alle mit Lust auf freie Malerei und Gestaltung \nDer Kurs entfällt bis auf Weiteres! \nmittwochs 9:30 bis 11:30 Uhr\n10er Karte incl. Basismaterial 145 € \nKleine Gruppen\, max. 10 Teilnehmer/innen\nAnmeldung erbeten \nWollten Sie sich auch schon immer einmal in einer besonderen Atmosphäre treffen\, gemeinsam malen\, zeichnen und gestalten? Dann sind Sie hier richtig. Beim gemeinsamen Arbeiten steht die Freude am Tun im Vordergrund. Das Leben ist bunt – wir möchten Sie dazu einladen. \n\n\n\n\n\n\n
URL:https://begas-haus.de/veranstaltung/kunst-aktiv-im-offenen-atelier/2020-09-02/
LOCATION:Begas Haus\, Hochstraße 21\, Heinsberg\, 52525
CATEGORIES:Erwachsene,Kunst Aktiv,Wöchentliche Angebote
ORGANIZER;CN="Begas%20Haus":MAILTO:info@begas-haus.de
END:VEVENT
END:VCALENDAR