BEGIN:VCALENDAR
VERSION:2.0
PRODID:-//Begas Haus - ECPv4.9.13//NONSGML v1.0//EN
CALSCALE:GREGORIAN
METHOD:PUBLISH
X-WR-CALNAME:Begas Haus
X-ORIGINAL-URL:https://begas-haus.de
X-WR-CALDESC:Veranstaltungen im Begas Haus
BEGIN:VTIMEZONE
TZID:Europe/Berlin
BEGIN:DAYLIGHT
TZOFFSETFROM:+0100
TZOFFSETTO:+0200
TZNAME:CEST
DTSTART:20240331T010000
END:DAYLIGHT
BEGIN:STANDARD
TZOFFSETFROM:+0200
TZOFFSETTO:+0100
TZNAME:CET
DTSTART:20241027T010000
END:STANDARD
END:VTIMEZONE
BEGIN:VEVENT
DTSTART;VALUE=DATE:20240804
DTEND;VALUE=DATE:20240819
DTSTAMP:20260424T100432
CREATED:20240805T113137Z
LAST-MODIFIED:20240805T113415Z
UID:4476-1722729600-1724025599@begas-haus.de
SUMMARY:Meisterstücke 2024 der Glaserinnung NRW
DESCRIPTION:14 Meisterstücke der angehenden Glasermeister*innen stellen ihre Projektarbeiten zum Abschluss ihres mehrjährigen Meisterkurses im Begas Haus aus. \nDie 13 Glaser und eine Glaserin bezogen sich bei ihren Arbeiten auf die räumlichen Gegebenheiten und Nutzungsmöglichkeiten des Museums. \nSie sind zu den normalen Öffnungszeiten des Museums zu besichtigen. \n
URL:https://begas-haus.de/veranstaltung/meisterstuecke-2024-der-glaserinnung-nrw/
LOCATION:Begas Haus\, Hochstraße 21\, Heinsberg\, 52525
ORGANIZER;CN="Begas%20Haus":MAILTO:info@begas-haus.de
END:VEVENT
END:VCALENDAR