BEGIN:VCALENDAR
VERSION:2.0
PRODID:-//Begas Haus - ECPv4.9.13//NONSGML v1.0//EN
CALSCALE:GREGORIAN
METHOD:PUBLISH
X-WR-CALNAME:Begas Haus
X-ORIGINAL-URL:https://begas-haus.de
X-WR-CALDESC:Veranstaltungen im Begas Haus
BEGIN:VTIMEZONE
TZID:Europe/Berlin
BEGIN:DAYLIGHT
TZOFFSETFROM:+0100
TZOFFSETTO:+0200
TZNAME:CEST
DTSTART:20250330T010000
END:DAYLIGHT
BEGIN:STANDARD
TZOFFSETFROM:+0200
TZOFFSETTO:+0100
TZNAME:CET
DTSTART:20251026T010000
END:STANDARD
END:VTIMEZONE
BEGIN:VEVENT
DTSTART;VALUE=DATE:20250422
DTEND;VALUE=DATE:20250425
DTSTAMP:20260421T171904
CREATED:20250327T143404Z
LAST-MODIFIED:20250327T144721Z
UID:4740-1745280000-1745539199@begas-haus.de
SUMMARY:Osterferien-Workshop "Frühlingsaquarelle"
DESCRIPTION:Die Aquarellmalerei mit ihren zarten Farbtönen und feinen Verläufen ist wie geschaffen für die Jahreszeit der Neuanfänge. In diesem Workshop erfahren die Kinder die Grundtechniken der Aquarellmalerei. Nebenher gibt es natürlich auch Tipps wie bestimmte Effekte erziehlt werden können. So entstehen mit Hilfe kleiner Übungen und nach Vorlagen die ersten eigenen Aquarelle. Wer mag\, kann gerne eigene Ideen und Vorlagen mitbringen. \nDienstag\, 22.04. bis Donnerstag\, 24.04.2025\, jeweils 14 bis 17 Uhr \nDozent: Rüdiger Trebels \nDieser kostenlose Workshop richtet sich an Kinder im Alter von 10 – 14 Jahren. \nAnmeldungen an kunst-aktiv@begas-haus.de \nZeichnung / Aquarell: Rüdiger Trebels \n
URL:https://begas-haus.de/veranstaltung/osterferien-workshop-fruehlingsaquarelle/
LOCATION:Begas Haus\, Hochstraße 21\, Heinsberg\, 52525
CATEGORIES:Kinder und Jugendliche,Kunst Aktiv,Wochenend-Workshops / Ferienworkshop
ATTACH;FMTTYPE=image/jpeg:https://begas-haus.de/wp-content/uploads/2025/03/Tauben_Aquarell.jpg
ORGANIZER;CN="Begas%20Haus":MAILTO:info@begas-haus.de
END:VEVENT
END:VCALENDAR