BEGIN:VCALENDAR
VERSION:2.0
PRODID:-//Begas Haus - ECPv4.9.13//NONSGML v1.0//EN
CALSCALE:GREGORIAN
METHOD:PUBLISH
X-WR-CALNAME:Begas Haus
X-ORIGINAL-URL:https://begas-haus.de
X-WR-CALDESC:Veranstaltungen im Begas Haus
BEGIN:VTIMEZONE
TZID:Europe/Berlin
BEGIN:DAYLIGHT
TZOFFSETFROM:+0100
TZOFFSETTO:+0200
TZNAME:CEST
DTSTART:20200329T010000
END:DAYLIGHT
BEGIN:STANDARD
TZOFFSETFROM:+0200
TZOFFSETTO:+0100
TZNAME:CET
DTSTART:20201025T010000
END:STANDARD
END:VTIMEZONE
BEGIN:VEVENT
DTSTART;TZID=Europe/Berlin:20200718T140000
DTEND;TZID=Europe/Berlin:20200718T170000
DTSTAMP:20260424T104326
CREATED:20200304T123652Z
LAST-MODIFIED:20200716T100827Z
UID:2398-1595080800-1595091600@begas-haus.de
SUMMARY:Portraitzeichnen im BEGAS HAUS
DESCRIPTION: \n  \nPortraitzeichnen im BEGAS HAUS \nAusgebucht! \nDozent: Martin Lersch \nTermin: Sa. 18.07.2020\, 14:00 bis 17:00 Uhr \nZielgruppe 12-14 Jahre\, maximal 10 Teilnehmer \nTeilnahme kostenlos\, gefördert durch Kulturrucksack NRW \nProjektbeschreibung: der KOPF\, das HAUPT\, PORTRAIT \nBesuch des Museum BEGAS-HAUS mit Bleistift und Skizzenblock auf den Spuren von Kopfbildnissen und Portraitmalereien \nSkizzieren nach den Originalwerken \nPortraitzeichnen im Atelier des BEGAS-HAUS\, wir zeichnen uns gegenseitig mit Bleistift \nwir geben den entstandenen Kopfzeichnung Farben \nwir erfinden Fantasieköpfe \n  \n
URL:https://begas-haus.de/veranstaltung/portraitzeichnen-im-begas-haus/
LOCATION:Begas Haus\, Hochstraße 21\, Heinsberg\, 52525
CATEGORIES:Kinder und Jugendliche,Kunst Aktiv,Wochenend-Workshops / Ferienworkshop
ORGANIZER;CN="Begas%20Haus":MAILTO:info@begas-haus.de
END:VEVENT
END:VCALENDAR