BEGIN:VCALENDAR
VERSION:2.0
PRODID:-//Begas Haus - ECPv4.9.13//NONSGML v1.0//EN
CALSCALE:GREGORIAN
METHOD:PUBLISH
X-WR-CALNAME:Begas Haus
X-ORIGINAL-URL:https://begas-haus.de
X-WR-CALDESC:Veranstaltungen im Begas Haus
BEGIN:VTIMEZONE
TZID:Europe/Berlin
BEGIN:DAYLIGHT
TZOFFSETFROM:+0100
TZOFFSETTO:+0200
TZNAME:CEST
DTSTART:20200329T010000
END:DAYLIGHT
BEGIN:STANDARD
TZOFFSETFROM:+0200
TZOFFSETTO:+0100
TZNAME:CET
DTSTART:20201025T010000
END:STANDARD
END:VTIMEZONE
BEGIN:VEVENT
DTSTART;TZID=Europe/Berlin:20200808T130000
DTEND;TZID=Europe/Berlin:20200808T170000
DTSTAMP:20260424T103602
CREATED:20200707T111403Z
LAST-MODIFIED:20200716T100625Z
UID:2728-1596891600-1596906000@begas-haus.de
SUMMARY:Portraitzeichnen mit Martin Lersch Zusatztermin!
DESCRIPTION:Wegen der großen Nachfrage findet ein Zusatztermin statt! \nAusgebucht! \nDozent Martin Lersch\, \nTeilnahmegebühr Erwachsene 39\,- €\nTeilnahmegebühr ab 12 Jahre bis 18 Jahre 29\,- € \nAblauf: \nStart 13.00 Uhr\, Ende 17:00 Uhr\nFührung durch die Ausstellung Martin Lersch\nZeichnen im Atelier und/oder Museum\nkurze Kaffeepause\nAbschlussbesprechnung \n
URL:https://begas-haus.de/veranstaltung/portraitzeichnen-mit-martin-lersch-zusatztermin/
LOCATION:Begas Haus\, Hochstraße 21\, Heinsberg\, 52525
CATEGORIES:Erwachsene,Kinder und Jugendliche,Kunst Aktiv
ORGANIZER;CN="Begas%20Haus":MAILTO:info@begas-haus.de
END:VEVENT
END:VCALENDAR