BEGIN:VCALENDAR
VERSION:2.0
PRODID:-//Begas Haus - ECPv4.9.13//NONSGML v1.0//EN
CALSCALE:GREGORIAN
METHOD:PUBLISH
X-WR-CALNAME:Begas Haus
X-ORIGINAL-URL:https://begas-haus.de
X-WR-CALDESC:Veranstaltungen im Begas Haus
BEGIN:VTIMEZONE
TZID:Europe/Berlin
BEGIN:DAYLIGHT
TZOFFSETFROM:+0100
TZOFFSETTO:+0200
TZNAME:CEST
DTSTART:20220327T010000
END:DAYLIGHT
BEGIN:STANDARD
TZOFFSETFROM:+0200
TZOFFSETTO:+0100
TZNAME:CET
DTSTART:20221030T010000
END:STANDARD
END:VTIMEZONE
BEGIN:VEVENT
DTSTART;VALUE=DATE:20220802
DTEND;VALUE=DATE:20220806
DTSTAMP:20260424T232325
CREATED:20220216T111643Z
LAST-MODIFIED:20220519T092629Z
UID:3591-1659398400-1659743999@begas-haus.de
SUMMARY:Schritt für Schritt zum kleinen Zeichenprofi (AUSGEBUCHT)
DESCRIPTION:  \nSommerferien-Workshop \nDienstag\, 02.08. bis Freitag\, 05.08.\, jeweils 14.00 – 17.00 Uhr  \nDozent: Patrick Wapelhorst \nMax. 10 Teilnehmer\, 10 – 14 Jahre \n  \nIn diesem Workshop lernen die Kinder Schritt für Schritt Formen\, Tiere und Menschen realistisch zu zeichnen. Vom galoppierenden Pferd über die niedliche Katze bis hin zum spielenden Kind werden die Teilnehmer durch leicht verständliche Schrittbilder angeleitet\, die Motive schnell selbst mit Bleistift zu zeichnen. Im Anschluss sollen eigene Ideen entwickelt und auf Pappen oder Leinwände gezeichnet werden. Diese Bilder können dann mit anderen Farbtechniken (z. B. Acryl- oder Wasserfarbe) ausgearbeitet werden. \nDer Workshop findet im Rahmen des Projekts „Kulturrucksack NRW“ statt und ist damit kostenlos. Eine Anmeldung ist erforderlich. \nAnmeldung per E-Mail an kunst-aktiv@begas-haus.de. Bitte geben Sie Namen\, Adresse\, Kontaktdaten und das Alter des Kindes an. \n  \n
URL:https://begas-haus.de/veranstaltung/schritt-fuer-schritt-zum-kleinen-zeichenprofi/
LOCATION:Begas Haus\, Hochstraße 21\, Heinsberg\, 52525
CATEGORIES:Kunst Aktiv
ORGANIZER;CN="Begas%20Haus":MAILTO:info@begas-haus.de
END:VEVENT
END:VCALENDAR