BEGIN:VCALENDAR
VERSION:2.0
PRODID:-//Begas Haus - ECPv4.9.13//NONSGML v1.0//EN
CALSCALE:GREGORIAN
METHOD:PUBLISH
X-WR-CALNAME:Begas Haus
X-ORIGINAL-URL:https://begas-haus.de
X-WR-CALDESC:Veranstaltungen im Begas Haus
BEGIN:VTIMEZONE
TZID:Europe/Berlin
BEGIN:DAYLIGHT
TZOFFSETFROM:+0100
TZOFFSETTO:+0200
TZNAME:CEST
DTSTART:20240331T010000
END:DAYLIGHT
BEGIN:STANDARD
TZOFFSETFROM:+0200
TZOFFSETTO:+0100
TZNAME:CET
DTSTART:20241027T010000
END:STANDARD
END:VTIMEZONE
BEGIN:VEVENT
DTSTART;TZID=Europe/Berlin:20240914T140000
DTEND;TZID=Europe/Berlin:20240914T170000
DTSTAMP:20260423T050548
CREATED:20240807T095812Z
LAST-MODIFIED:20240812T095623Z
UID:4479-1726322400-1726333200@begas-haus.de
SUMMARY:VHS im Begas Haus: Mensch & Mode - Zeichnen & Gestalten
DESCRIPTION:Vorbild Zurbaran – Meister der Details: Eine Modezeichnung oder Fashion-Illustration ist eine künstlerisch umgesetzte Darstellung eines Modeentwurfs oder Kleidungsstückes. Hier wird Wert gelegt auf die künstlerische Aussage\, die durch Zeichnung\, Koloration und durch ausgesuchte Details\, die als Hingucker den Blick des Betrachters fesseln sollen\, entsteht. \nGrundlage für eine gelungene Modezeichnung ist eine gut proportionierte Figurine\, also die Zeichnung eines Menschen. \nSomit steht der Fokus in diesem Workshop ebenso auf der zeichnerischen Darstellung des menschlichen Körpers wie auch auf der Ausarbeitung der modisch-künstlerischen Aussage. \nIn diesem Workshop zeichnen die Teilnehmenden diverse Bewegungsstellungen und „ziehen dann die Figurine an“. \nAnhand diverser Übungen zu \n– Proportionen einer Figur\, verschiedene Stellungen \n– Zeichnen des Kopfes\, Gesicht\, Frisuren \n– Hände und Füße \n– Faltenwurf\, Stoffmuster \n– der Fragestellung: Wie finde ich Inspiration? \n– Farbgestaltung und Stoffe in den vier Jahreszeiten \n– Designs und Kollektionen \nerlernen die Teilnehmenden\, wie sie ihre eigenen Design-Ideen anschaulich mit dem richtigen zeichnerischen Know-How umsetzen können. Es können auch Collagen mit Stoffen\, Perlchen und Knöpfen gestaltet werden. \nDie Teilnehmer sind frei in der Ausgestaltung ihrer Projekte und werden dabei individuell begleitet. Es werden jede Menge Ideen und Inspiration sowie diverse Materialien zum Ausprobieren im Kurs angeboten\, so dass man seine Kreativität spielen lassen und mit den verschiedensten Techniken und Materialien experimentieren kann. Der Workshop richtet sich an fortgeschrittene Zeichner UND Newcomer. \nDozentin: Hildegard Burggraef \nWochened-Workshop \nSamstag 14.09.24\, 14.00 – 17.00 Uhr und Sonntag\, 15.09.24\, 11.00 – 15.00 Uhr \nInfos und Anmeldung unter www.vhs-kreis-heinsberg.de \n
URL:https://begas-haus.de/veranstaltung/vhs-im-begas-haus-mensch-mode-zeichnen-gestalten/
LOCATION:Begas Haus\, Hochstraße 21\, Heinsberg\, 52525
CATEGORIES:Erwachsene,Kunst Aktiv,Wochenend-Workshops / Ferienworkshop
ATTACH;FMTTYPE=image/jpeg:https://begas-haus.de/wp-content/uploads/2024/08/Modezeichnung1.jpg
ORGANIZER;CN="Begas%20Haus":MAILTO:info@begas-haus.de
END:VEVENT
END:VCALENDAR