BEGIN:VCALENDAR
VERSION:2.0
PRODID:-//Begas Haus - ECPv4.9.13//NONSGML v1.0//EN
CALSCALE:GREGORIAN
METHOD:PUBLISH
X-WR-CALNAME:Begas Haus
X-ORIGINAL-URL:https://begas-haus.de
X-WR-CALDESC:Veranstaltungen im Begas Haus
BEGIN:VTIMEZONE
TZID:Europe/Berlin
BEGIN:DAYLIGHT
TZOFFSETFROM:+0100
TZOFFSETTO:+0200
TZNAME:CEST
DTSTART:20210328T010000
END:DAYLIGHT
BEGIN:STANDARD
TZOFFSETFROM:+0200
TZOFFSETTO:+0100
TZNAME:CET
DTSTART:20211031T010000
END:STANDARD
END:VTIMEZONE
BEGIN:VEVENT
DTSTART;TZID=Europe/Berlin:20211202T160000
DTEND;TZID=Europe/Berlin:20211202T180000
DTSTAMP:20260424T102256
CREATED:20211103T101121Z
LAST-MODIFIED:20211103T101121Z
UID:3463-1638460800-1638468000@begas-haus.de
SUMMARY:Werkzeit -Atelierzeit Teil 4   Traditioneller Weihnachtsschmuck - Strohstern und Co.
DESCRIPTION:Werkzeit -Atelierzeit Teil 4 \nTraditioneller Weihnachtsschmuck – Strohstern und Co. An jedem Workshoptag wird eine eigenständige Basteltechnik vorgestellt. Eine Buchung von einem oder mehreren Tagen oder des ganzen Workshops ist möglich. \nKostenloser Workshop im Rahmen des Förderprogrammes „Kulturrucksack NRW“ \n5x dienstags\, 1x donnerstags (02.12.) 16:00 bis 18:00 Uhr \nTermine: 02.11./09.11./16.11./23.11./30.11./02.12. \nDozenten Team BEGAS \nAlter: 10 bis 14 Jahre \nInformation und Anmeldung: kunst-aktiv@begas-haus.de \n
URL:https://begas-haus.de/veranstaltung/werkzeit-atelierzeit-teil-4-traditioneller-weihnachtsschmuck-strohstern-und-co-2/
LOCATION:Begas Haus\, Hochstraße 21\, Heinsberg\, 52525
ORGANIZER;CN="Begas%20Haus":MAILTO:info@begas-haus.de
END:VEVENT
END:VCALENDAR