BEGIN:VCALENDAR
VERSION:2.0
PRODID:-//Begas Haus - ECPv4.9.13//NONSGML v1.0//EN
CALSCALE:GREGORIAN
METHOD:PUBLISH
X-WR-CALNAME:Begas Haus
X-ORIGINAL-URL:https://begas-haus.de
X-WR-CALDESC:Veranstaltungen im Begas Haus
BEGIN:VTIMEZONE
TZID:Europe/Berlin
BEGIN:DAYLIGHT
TZOFFSETFROM:+0100
TZOFFSETTO:+0200
TZNAME:CEST
DTSTART:20210328T010000
END:DAYLIGHT
BEGIN:STANDARD
TZOFFSETFROM:+0200
TZOFFSETTO:+0100
TZNAME:CET
DTSTART:20211031T010000
END:STANDARD
END:VTIMEZONE
BEGIN:VEVENT
DTSTART;TZID=Europe/Berlin:20210529T140000
DTEND;TZID=Europe/Berlin:20210530T170000
DTSTAMP:20260424T101406
CREATED:20210311T113554Z
LAST-MODIFIED:20210525T095538Z
UID:3038-1622296800-1622394000@begas-haus.de
SUMMARY:Zauberblume Gruppe 1 29.05.+30.05.2021 (ausgebucht)
DESCRIPTION:Im Rahmen des Förderprogramms „Kulturrucksack NRW“ bieten wir auch dieses Jahr ein kostenloses Kreativangebot für Kinder im Alter von 10 bis 14 Jahren an. Auf Grund der derzeitig gültigen Corona-Schutzverordnung findet dieses im geänderten Format statt: \nJeder Workshop wird in zwei Kleingruppen á fünf Kindern aufgeteilt\, die Kurszeiten sind jeweils an zwei aufeinanderfolgenden Tagen: \nSamstag           14:00 bis 17:00 Uhr (Treffpunkt am ersten Tag 13:45 Uhr am Museumseingang) \nSonntag            11:00 bis 17:00 Uhr (incl. 30 min Pause  unter Aufsicht) \nZauberblume \nKursbeschreibung: \nZu Beginn des Workshops gehen wir im BEGAS HAUS auf die Suche nach einem wunderbaren Gemälde mit einem Hauch von einer verwunschenen Landschaft – Blumen über Blumen! \nNach einer kurzen Einführung in die Materialkunde und Filzwissen\, werden wir die Grundtechniken des Filzens besprechen. Wir filzen zunächst eine einfache Blume mit Stiel um ein Gefühl für das Material zu bekommen. Später wird dann die mit zahlreichen Blütenblättern angestrebte Blume unsere Aufmerksamkeit erfordern.\n \nDozentin:  \nSabine Köhlert \nKurstage: \nGruppe 1: Samstag 29.05.2021 + Sonntag 30.05.2021 \nTeilnahme nach Anmeldung kostenlos\, bitte geben Sie Ihrem Kind für die Mittagspause einen Snack mit. Für Getränke und Knabbereien zwischendurch ist gesorgt. \n  \n
URL:https://begas-haus.de/veranstaltung/zauberblume-gruppe-1-06-04-07-04-2021/
LOCATION:Begas Haus\, Hochstraße 21\, Heinsberg\, 52525
CATEGORIES:Kinder und Jugendliche,Kunst Aktiv,Wochenend-Workshops / Ferienworkshop
ATTACH;FMTTYPE=image/png:https://begas-haus.de/wp-content/uploads/2019/09/kulturrucksack.png
ORGANIZER;CN="Begas%20Haus":MAILTO:info@begas-haus.de
END:VEVENT
END:VCALENDAR